Workbook

Sheet Count Summary
I2: Quay St | N2: George St
B3: Job No. | C3: N337 | M3: 24
B4: Client | C4: City of Sydney | Q4: 23
B5: Suburb | C5: City Centre
B6: Site No. | C6: 1 | H6: Broadway St | I6: 25 | R6: Pitt St
B7: Location | C7: Broadway / Lee St / Quay St / George St / Pitt St
B8: Date | C8: 40267
B9: Time | C9: 6am to 9am / 4pm to 7pm
B10: Weather | C10: Fine | K10: 21 | P10: 22
B11: Description | C11: Cyclists Turns Count
K12: Lee St
B13: Summary | D13: AM | H13: PM | L13: Grand Total
B14: Total Cyclist | D14: =P45 -> 152 | F14: =SUM(D14/$D$14) -> 1 | H14: =AC45 -> 135 | J14: =SUM(H14/$H$14) -> 1 | L14: =AD45 -> 287 | N14: =SUM(L14/$L$14) -> 1
B15: Total On-road Cyclist (Turns 1 to 20) | D15: =SUM(P20:P39) -> 142 | F15: =SUM(D15/$D$14) -> 0.93421053 | H15: =SUM(AC20:AC39) -> 125 | J15: =SUM(H15/$H$14) -> 0.92592593 | L15: =SUM(AD20:AD39) -> 267 | N15: =SUM(L15/$L$14) -> 0.93031359
B16: Total Off-road Cyclist (Turns 21 to 25) | D16: =SUM(P40:P44) -> 10 | F16: =SUM(D16/$D$14) -> 0.065789474 | H16: =SUM(AC40:AC44) -> 10 | J16: =SUM(H16/$H$14) -> 0.074074074 | L16: =SUM(AD40:AD44) -> 20 | N16: =SUM(L16/$L$14) -> 0.069686411
B18: Bicycle Count | D18: AM Time Bracket | P18: AM Total | Q18: PM Time Bracket | AC18: PM Total | AD18: Grand Total
B19: Turn ID | C19: Turn Description | D19: 6:00 - 6:15 | E19: 6:15 - 6:30 | F19: 6:30 - 6:45 | G19: 6:45 - 7:00 | H19: 7:00 - 7:15 | I19: 7:15 - 7:30 | J19: 7:30 - 7:45 | K19: 7:45 - 8:00 | L19: 8:00 - 8:15 | M19: 8:15 - 8:30 | N19: 8:30 - 8:45 | O19: 8:45 - 9:00 | Q19: 16:00 - 16:15 | R19: 16:15 - 16:30 | S19: 16:30 - 16:45 | T19: 16:45 - 17:00 | U19: 17:00 - 17:15 | V19: 17:15 - 17:30 | W19: 17:30 - 17:45 | X19: 17:45 - 18:00 | Y19: 18:00 - 18:15 | Z19: 18:15 - 18:30 | AA19: 18:30 - 18:45 | AB19: 18:45 - 19:00
B20: =AR20 -> 1_01 | C20: =AS20 -> Lee St LT | D20: 0 | E20: 0 | F20: 0 | G20: 0 | H20: 0 | I20: 0 | J20: 0 | K20: 0 | L20: 0 | M20: 0 | N20: 0 | O20: 0 | P20: =SUM(D20:O20) -> 0 | Q20: 0 | R20: 0 | S20: 0 | T20: 0 | U20: 1 | V20: 0 | W20: 0 | X20: 0 | Y20: 0 | Z20: 0 | AA20: 0 | AB20: 0 | AC20: =SUM(Q20:AB20) -> 1 | AD20: =SUM(P20,AC20) -> 1 | AK20: =$C$6 -> 1 | AL20: _01 | AM20: =K12 -> Lee St | AP20: LT | AR20: =$AK$20 & TEXT(AL20,"") -> 1_01 | AS20: =TEXT($AM$20,"") & TEXT(" ","") & TEXT(AP20,"") -> Lee St LT
B21: =AR21 -> 1_02 | C21: =AS21 -> Lee St SLT | D21: 0 | E21: 0 | F21: 0 | G21: 1 | H21: 0 | I21: 0 | J21: 0 | K21: 1 | L21: 1 | M21: 2 | N21: 1 | O21: 6 | P21: =SUM(D21:O21) -> 12 | Q21: 0 | R21: 1 | S21: 1 | T21: 0 | U21: 2 | V21: 0 | W21: 0 | X21: 0 | Y21: 0 | Z21: 0 | AA21: 0 | AB21: 1 | AC21: =SUM(Q21:AB21) -> 5 | AD21: =SUM(P21,AC21) -> 17 | AL21: _02 | AM21: =R6 -> Pitt St | AP21: SLT | AR21: =$AK$20 & TEXT(AL21,"") -> 1_02 | AS21: =TEXT($AM$20,"") & TEXT(" ","") & TEXT(AP21,"") -> Lee St SLT
B22: =AR22 -> 1_03 | C22: =AS22 -> Lee St SRT | D22: 1 | E22: 1 | F22: 0 | G22: 0 | H22: 1 | I22: 6 | J22: 0 | K22: 5 | L22: 6 | M22: 4 | N22: 6 | O22: 3 | P22: =SUM(D22:O22) -> 33 | Q22: 1 | R22: 0 | S22: 0 | T22: 0 | U22: 0 | V22: 0 | W22: 0 | X22: 0 | Y22: 0 | Z22: 0 | AA22: 0 | AB22: 0 | AC22: =SUM(Q22:AB22) -> 1 | AD22: =SUM(P22,AC22) -> 34 | AL22: _03 | AM22: =N2 -> George St | AP22: SRT | AR22: =$AK$20 & TEXT(AL22,"") -> 1_03 | AS22: =TEXT($AM$20,"") & TEXT(" ","") & TEXT(AP22,"") -> Lee St SRT
B23: =AR23 -> 1_04 | C23: =AS23 -> Lee St RT | D23: 2 | E23: 0 | F23: 3 | G23: 1 | H23: 3 | I23: 4 | J23: 5 | K23: 0 | L23: 11 | M23: 3 | N23: 2 | O23: 2 | P23: =SUM(D23:O23) -> 36 | Q23: 2 | R23: 0 | S23: 1 | T23: 3 | U23: 2 | V23: 0 | W23: 1 | X23: 0 | Y23: 0 | Z23: 0 | AA23: 2 | AB23: 0 | AC23: =SUM(Q23:AB23) -> 11 | AD23: =SUM(P23,AC23) -> 47 | AL23: _04 | AM23: =I2 -> Quay St | AP23: RT | AR23: =$AK$20 & TEXT(AL23,"") -> 1_04 | AS23: =TEXT($AM$20,"") & TEXT(" ","") & TEXT(AP23,"") -> Lee St RT
B24: =AR24 -> 1_05 | C24: =AS24 -> Pitt St LT | D24: 1 | E24: 0 | F24: 0 | G24: 0 | H24: 1 | I24: 0 | J24: 0 | K24: 0 | L24: 1 | M24: 0 | N24: 0 | O24: 2 | P24: =SUM(D24:O24) -> 5 | Q24: 2 | R24: 1 | S24: 0 | T24: 3 | U24: 0 | V24: 3 | W24: 3 | X24: 0 | Y24: 1 | Z24: 2 | AA24: 2 | AB24: 0 | AC24: =SUM(Q24:AB24) -> 17 | AD24: =SUM(P24,AC24) -> 22 | AL24: _05 | AM24: =H6 -> Broadway St | AP24: LT | AR24: =$AK$20 & TEXT(AL24,"") -> 1_05 | AS24: =TEXT($AM$21,"") & TEXT(" ","") & TEXT(AP24,"") -> Pitt St LT
B25: =AR25 -> 1_06 | C25: =AS25 -> Pitt St SLT | D25: 0 | E25: 0 | F25: 0 | G25: 0 | H25: 1 | I25: 1 | J25: 0 | K25: 1 | L25: 1 | M25: 1 | N25: 4 | O25: 2 | P25: =SUM(D25:O25) -> 11 | Q25: 1 | R25: 1 | S25: 1 | T25: 1 | U25: 2 | V25: 0 | W25: 1 | X25: 2 | Y25: 2 | Z25: 5 | AA25: 1 | AB25: 1 | AC25: =SUM(Q25:AB25) -> 18 | AD25: =SUM(P25,AC25) -> 29 | AL25: _06 | AP25: SLT | AR25: =$AK$20 & TEXT(AL25,"") -> 1_06 | AS25: =TEXT($AM$21,"") & TEXT(" ","") & TEXT(AP25,"") -> Pitt St SLT
B26: =AR26 -> 1_07 | C26: =AS26 -> Pitt St SRT | D26: 0 | E26: 0 | F26: 0 | G26: 0 | H26: 0 | I26: 0 | J26: 0 | K26: 0 | L26: 0 | M26: 0 | N26: 0 | O26: 0 | P26: =SUM(D26:O26) -> 0 | Q26: 0 | R26: 0 | S26: 0 | T26: 0 | U26: 0 | V26: 0 | W26: 0 | X26: 0 | Y26: 0 | Z26: 0 | AA26: 0 | AB26: 0 | AC26: =SUM(Q26:AB26) -> 0 | AD26: =SUM(P26,AC26) -> 0 | AL26: _07 | AP26: SRT | AR26: =$AK$20 & TEXT(AL26,"") -> 1_07 | AS26: =TEXT($AM$21,"") & TEXT(" ","") & TEXT(AP26,"") -> Pitt St SRT
B27: =AR27 -> 1_08 | C27: =AS27 -> Pitt St RT | D27: 0 | E27: 0 | F27: 0 | G27: 0 | H27: 0 | I27: 0 | J27: 0 | K27: 0 | L27: 0 | M27: 0 | N27: 0 | O27: 0 | P27: =SUM(D27:O27) -> 0 | Q27: 0 | R27: 0 | S27: 0 | T27: 1 | U27: 0 | V27: 0 | W27: 0 | X27: 0 | Y27: 0 | Z27: 0 | AA27: 0 | AB27: 0 | AC27: =SUM(Q27:AB27) -> 1 | AD27: =SUM(P27,AC27) -> 1 | AL27: _08 | AP27: RT | AR27: =$AK$20 & TEXT(AL27,"") -> 1_08 | AS27: =TEXT($AM$21,"") & TEXT(" ","") & TEXT(AP27,"") -> Pitt St RT
B28: =AR28 -> 1_09 | C28: =AS28 -> George St LT | D28: 0 | E28: 0 | F28: 0 | G28: 0 | H28: 0 | I28: 0 | J28: 0 | K28: 0 | L28: 0 | M28: 0 | N28: 0 | O28: 0 | P28: =SUM(D28:O28) -> 0 | Q28: 0 | R28: 0 | S28: 0 | T28: 0 | U28: 0 | V28: 0 | W28: 0 | X28: 0 | Y28: 0 | Z28: 0 | AA28: 0 | AB28: 0 | AC28: =SUM(Q28:AB28) -> 0 | AD28: =SUM(P28,AC28) -> 0 | AL28: _09 | AP28: LT | AR28: =$AK$20 & TEXT(AL28,"") -> 1_09 | AS28: =TEXT($AM$22,"") & TEXT(" ","") & TEXT(AP28,"") -> George St LT
B29: =AR29 -> 1_10 | C29: =AS29 -> George St SLT | D29: 0 | E29: 1 | F29: 0 | G29: 0 | H29: 0 | I29: 1 | J29: 0 | K29: 0 | L29: 2 | M29: 0 | N29: 0 | O29: 1 | P29: =SUM(D29:O29) -> 5 | Q29: 3 | R29: 1 | S29: 1 | T29: 2 | U29: 2 | V29: 2 | W29: 5 | X29: 3 | Y29: 3 | Z29: 5 | AA29: 2 | AB29: 1 | AC29: =SUM(Q29:AB29) -> 30 | AD29: =SUM(P29,AC29) -> 35 | AL29: _10 | AP29: SLT | AR29: =$AK$20 & TEXT(AL29,"") -> 1_10 | AS29: =TEXT($AM$22,"") & TEXT(" ","") & TEXT(AP29,"") -> George St SLT
B30: =AR30 -> 1_11 | C30: =AS30 -> George St SRT | D30: 0 | E30: 0 | F30: 0 | G30: 0 | H30: 0 | I30: 0 | J30: 1 | K30: 0 | L30: 1 | M30: 1 | N30: 0 | O30: 0 | P30: =SUM(D30:O30) -> 3 | Q30: 1 | R30: 1 | S30: 0 | T30: 1 | U30: 1 | V30: 2 | W30: 2 | X30: 2 | Y30: 3 | Z30: 2 | AA30: 0 | AB30: 0 | AC30: =SUM(Q30:AB30) -> 15 | AD30: =SUM(P30,AC30) -> 18 | AL30: _11 | AP30: SRT | AR30: =$AK$20 & TEXT(AL30,"") -> 1_11 | AS30: =TEXT($AM$22,"") & TEXT(" ","") & TEXT(AP30,"") -> George St SRT
B31: =AR31 -> 1_12 | C31: =AS31 -> George St RT | D31: 0 | E31: 0 | F31: 0 | G31: 0 | H31: 0 | I31: 0 | J31: 0 | K31: 0 | L31: 0 | M31: 0 | N31: 0 | O31: 0 | P31: =SUM(D31:O31) -> 0 | Q31: 0 | R31: 0 | S31: 0 | T31: 0 | U31: 0 | V31: 0 | W31: 0 | X31: 0 | Y31: 0 | Z31: 0 | AA31: 0 | AB31: 0 | AC31: =SUM(Q31:AB31) -> 0 | AD31: =SUM(P31,AC31) -> 0 | AL31: _12 | AP31: RT | AR31: =$AK$20 & TEXT(AL31,"") -> 1_12 | AS31: =TEXT($AM$22,"") & TEXT(" ","") & TEXT(AP31,"") -> George St RT
B32: =AR32 -> 1_13 | C32: =AS32 -> Quay St LT | D32: 0 | E32: 0 | F32: 0 | G32: 0 | H32: 0 | I32: 0 | J32: 0 | K32: 0 | L32: 0 | M32: 0 | N32: 0 | O32: 0 | P32: =SUM(D32:O32) -> 0 | Q32: 0 | R32: 0 | S32: 0 | T32: 0 | U32: 0 | V32: 0 | W32: 0 | X32: 0 | Y32: 0 | Z32: 0 | AA32: 0 | AB32: 0 | AC32: =SUM(Q32:AB32) -> 0 | AD32: =SUM(P32,AC32) -> 0 | AL32: _13 | AP32: LT | AR32: =$AK$20 & TEXT(AL32,"") -> 1_13 | AS32: =TEXT($AM$23,"") & TEXT(" ","") & TEXT(AP32,"") -> Quay St LT
B33: =AR33 -> 1_14 | C33: =AS33 -> Quay St SLT | D33: 0 | E33: 0 | F33: 0 | G33: 0 | H33: 0 | I33: 0 | J33: 0 | K33: 0 | L33: 0 | M33: 0 | N33: 0 | O33: 0 | P33: =SUM(D33:O33) -> 0 | Q33: 0 | R33: 0 | S33: 0 | T33: 0 | U33: 0 | V33: 0 | W33: 0 | X33: 0 | Y33: 0 | Z33: 0 | AA33: 0 | AB33: 0 | AC33: =SUM(Q33:AB33) -> 0 | AD33: =SUM(P33,AC33) -> 0 | AL33: _14 | AP33: SLT | AR33: =$AK$20 & TEXT(AL33,"") -> 1_14 | AS33: =TEXT($AM$23,"") & TEXT(" ","") & TEXT(AP33,"") -> Quay St SLT
B34: =AR34 -> 1_15 | C34: =AS34 -> Quay St SRT | D34: 0 | E34: 0 | F34: 0 | G34: 1 | H34: 0 | I34: 0 | J34: 0 | K34: 1 | L34: 0 | M34: 0 | N34: 0 | O34: 0 | P34: =SUM(D34:O34) -> 2 | Q34: 1 | R34: 0 | S34: 0 | T34: 0 | U34: 0 | V34: 0 | W34: 1 | X34: 0 | Y34: 0 | Z34: 0 | AA34: 1 | AB34: 0 | AC34: =SUM(Q34:AB34) -> 3 | AD34: =SUM(P34,AC34) -> 5 | AL34: _15 | AP34: SRT | AR34: =$AK$20 & TEXT(AL34,"") -> 1_15 | AS34: =TEXT($AM$23,"") & TEXT(" ","") & TEXT(AP34,"") -> Quay St SRT
B35: =AR35 -> 1_16 | C35: =AS35 -> Quay St RT | D35: 0 | E35: 0 | F35: 0 | G35: 1 | H35: 0 | I35: 0 | J35: 0 | K35: 0 | L35: 0 | M35: 0 | N35: 0 | O35: 0 | P35: =SUM(D35:O35) -> 1 | Q35: 0 | R35: 0 | S35: 0 | T35: 0 | U35: 0 | V35: 0 | W35: 0 | X35: 0 | Y35: 0 | Z35: 0 | AA35: 0 | AB35: 0 | AC35: =SUM(Q35:AB35) -> 0 | AD35: =SUM(P35,AC35) -> 1 | AL35: _16 | AP35: RT | AR35: =$AK$20 & TEXT(AL35,"") -> 1_16 | AS35: =TEXT($AM$23,"") & TEXT(" ","") & TEXT(AP35,"") -> Quay St RT
B36: =AR36 -> 1_17 | C36: =AS36 -> Broadway St LT | D36: 0 | E36: 0 | F36: 0 | G36: 1 | H36: 0 | I36: 0 | J36: 0 | K36: 0 | L36: 0 | M36: 0 | N36: 0 | O36: 0 | P36: =SUM(D36:O36) -> 1 | Q36: 0 | R36: 0 | S36: 0 | T36: 1 | U36: 0 | V36: 1 | W36: 0 | X36: 0 | Y36: 0 | Z36: 0 | AA36: 0 | AB36: 0 | AC36: =SUM(Q36:AB36) -> 2 | AD36: =SUM(P36,AC36) -> 3 | AL36: _17 | AP36: LT | AR36: =$AK$20 & TEXT(AL36,"") -> 1_17 | AS36: =TEXT($AM$24,"") & TEXT(" ","") & TEXT(AP36,"") -> Broadway St LT
B37: =AR37 -> 1_18 | C37: =AS37 -> Broadway St SLT | D37: 0 | E37: 1 | F37: 1 | G37: 0 | H37: 0 | I37: 0 | J37: 3 | K37: 1 | L37: 4 | M37: 1 | N37: 2 | O37: 4 | P37: =SUM(D37:O37) -> 17 | Q37: 2 | R37: 1 | S37: 0 | T37: 0 | U37: 0 | V37: 0 | W37: 0 | X37: 1 | Y37: 0 | Z37: 0 | AA37: 1 | AB37: 0 | AC37: =SUM(Q37:AB37) -> 5 | AD37: =SUM(P37,AC37) -> 22 | AL37: _18 | AP37: SLT | AR37: =$AK$20 & TEXT(AL37,"") -> 1_18 | AS37: =TEXT($AM$24,"") & TEXT(" ","") & TEXT(AP37,"") -> Broadway St SLT
B38: =AR38 -> 1_19 | C38: =AS38 -> Broadway St SRT | D38: 3 | E38: 1 | F38: 2 | G38: 1 | H38: 0 | I38: 1 | J38: 1 | K38: 2 | L38: 4 | M38: 1 | N38: 0 | O38: 0 | P38: =SUM(D38:O38) -> 16 | Q38: 1 | R38: 0 | S38: 0 | T38: 6 | U38: 1 | V38: 0 | W38: 0 | X38: 0 | Y38: 2 | Z38: 2 | AA38: 3 | AB38: 0 | AC38: =SUM(Q38:AB38) -> 15 | AD38: =SUM(P38,AC38) -> 31 | AL38: _19 | AP38: SRT | AR38: =$AK$20 & TEXT(AL38,"") -> 1_19 | AS38: =TEXT($AM$24,"") & TEXT(" ","") & TEXT(AP38,"") -> Broadway St SRT
B39: =AR39 -> 1_20 | C39: =AS39 -> Broadway St RT | D39: 0 | E39: 0 | F39: 0 | G39: 0 | H39: 0 | I39: 0 | J39: 0 | K39: 0 | L39: 0 | M39: 0 | N39: 0 | O39: 0 | P39: =SUM(D39:O39) -> 0 | Q39: 0 | R39: 0 | S39: 0 | T39: 0 | U39: 0 | V39: 0 | W39: 1 | X39: 0 | Y39: 0 | Z39: 0 | AA39: 0 | AB39: 0 | AC39: =SUM(Q39:AB39) -> 1 | AD39: =SUM(P39,AC39) -> 1 | AL39: _20 | AP39: RT | AR39: =$AK$20 & TEXT(AL39,"") -> 1_20 | AS39: =TEXT($AM$24,"") & TEXT(" ","") & TEXT(AP39,"") -> Broadway St RT
B40: =AR40 -> 1_21 | C40: =AS40 -> Lee St Crossing | D40: 0 | E40: 0 | F40: 0 | G40: 1 | H40: 0 | I40: 0 | J40: 0 | K40: 0 | L40: 0 | M40: 1 | N40: 2 | O40: 0 | P40: =SUM(D40:O40) -> 4 | Q40: 1 | R40: 0 | S40: 0 | T40: 0 | U40: 0 | V40: 0 | W40: 0 | X40: 0 | Y40: 1 | Z40: 2 | AA40: 1 | AB40: 0 | AC40: =SUM(Q40:AB40) -> 5 | AD40: =SUM(P40,AC40) -> 9 | AL40: _21 | AP40: Crossing | AR40: =$AK$20 & TEXT(AL40,"") -> 1_21 | AS40: =TEXT($AM$20,"") & TEXT(" ","") & TEXT(AP40,"") -> Lee St Crossing
B41: =AR41 -> 1_22 | C41: =AS41 -> Pitt St Crossing | D41: 0 | E41: 0 | F41: 0 | G41: 0 | H41: 0 | I41: 0 | J41: 0 | K41: 0 | L41: 0 | M41: 0 | N41: 0 | O41: 0 | P41: =SUM(D41:O41) -> 0 | Q41: 0 | R41: 0 | S41: 0 | T41: 0 | U41: 0 | V41: 1 | W41: 0 | X41: 0 | Y41: 1 | Z41: 2 | AA41: 0 | AB41: 0 | AC41: =SUM(Q41:AB41) -> 4 | AD41: =SUM(P41,AC41) -> 4 | AL41: _22 | AP41: Crossing | AR41: =$AK$20 & TEXT(AL41,"") -> 1_22 | AS41: =TEXT($AM$21,"") & TEXT(" ","") & TEXT(AP41,"") -> Pitt St Crossing
B42: =AR42 -> 1_23 | C42: =AS42 -> George St Crossing | D42: 0 | E42: 0 | F42: 0 | G42: 0 | H42: 0 | I42: 0 | J42: 0 | K42: 0 | L42: 0 | M42: 0 | N42: 0 | O42: 0 | P42: =SUM(D42:O42) -> 0 | Q42: 0 | R42: 0 | S42: 0 | T42: 0 | U42: 0 | V42: 0 | W42: 0 | X42: 0 | Y42: 0 | Z42: 0 | AA42: 0 | AB42: 0 | AC42: =SUM(Q42:AB42) -> 0 | AD42: =SUM(P42,AC42) -> 0 | AL42: _23 | AP42: Crossing | AR42: =$AK$20 & TEXT(AL42,"") -> 1_23 | AS42: =TEXT($AM$22,"") & TEXT(" ","") & TEXT(AP42,"") -> George St Crossing
...

Sheet AM Data
A1: =TEXT("CITY OF SYDNEY TWICE - YEARLY BICYCLE COUNT - SITE ","") & B4 & TEXT(" DATA (AM)","") -> CITY OF SYDNEY TWICE - YEARLY BICYCLE COUNT - SITE 1 DATA (AM)
A3: ID | B3: Intersection ID | C3: Description | D3: Count Date | E3: Count Time | F3: Session | G3: Time Bracket | H3: Turn ID | I3: Turn Description | J3: Bicycles
A4: 1 | B4: ='Count Summary'!$C$6 -> 1 | C4: ='Count Summary'!$C$7 -> Broadway / Lee St / Quay St / George St / Pitt St | D4: ='Count Summary'!$C$8 -> 40267 | E4: 0.25 | F4: AM | G4: ='Count Summary'!$D$19 -> 6:00 - 6:15 | H4: ='Count Summary'!B20 -> 1_01 | I4: ='Count Summary'!C20 -> Lee St LT | J4: ='Count Summary'!D20 -> 0
A5: 2 | B5: ='Count Summary'!$C$6 -> 1 | C5: ='Count Summary'!$C$7 -> Broadway / Lee St / Quay St / George St / Pitt St | D5: ='Count Summary'!$C$8 -> 40267 | E5: 0.25 | F5: AM | G5: ='Count Summary'!$D$19 -> 6:00 - 6:15 | H5: ='Count Summary'!B21 -> 1_02 | I5: ='Count Summary'!C21 -> Lee St SLT | J5: ='Count Summary'!D21 -> 0
A6: 3 | B6: ='Count Summary'!$C$6 -> 1 | C6: ='Count Summary'!$C$7 -> Broadway / Lee St / Quay St / George St / Pitt St | D6: ='Count Summary'!$C$8 -> 40267 | E6: 0.25 | F6: AM | G6: ='Count Summary'!$D$19 -> 6:00 - 6:15 | H6: ='Count Summary'!B22 -> 1_03 | I6: ='Count Summary'!C22 -> Lee St SRT | J6: ='Count Summary'!D22 -> 1
A7: 4 | B7: ='Count Summary'!$C$6 -> 1 | C7: ='Count Summary'!$C$7 -> Broadway / Lee St / Quay St / George St / Pitt St | D7: ='Count Summary'!$C$8 -> 40267 | E7: 0.25 | F7: AM | G7: ='Count Summary'!$D$19 -> 6:00 - 6:15 | H7: ='Count Summary'!B23 -> 1_04 | I7: ='Count Summary'!C23 -> Lee St RT | J7: ='Count Summary'!D23 -> 2
A8: 5 | B8: ='Count Summary'!$C$6 -> 1 | C8: ='Count Summary'!$C$7 -> Broadway / Lee St / Quay St / George St / Pitt St | D8: ='Count Summary'!$C$8 -> 40267 | E8: 0.25 | F8: AM | G8: ='Count Summary'!$D$19 -> 6:00 - 6:15 | H8: ='Count Summary'!B24 -> 1_05 | I8: ='Count Summary'!C24 -> Pitt St LT | J8: ='Count Summary'!D24 -> 1
A9: 6 | B9: ='Count Summary'!$C$6 -> 1 | C9: ='Count Summary'!$C$7 -> Broadway / Lee St / Quay St / George St / Pitt St | D9: ='Count Summary'!$C$8 -> 40267 | E9: 0.25 | F9: AM | G9: ='Count Summary'!$D$19 -> 6:00 - 6:15 | H9: ='Count Summary'!B25 -> 1_06 | I9: ='Count Summary'!C25 -> Pitt St SLT | J9: ='Count Summary'!D25 -> 0
A10: 7 | B10: ='Count Summary'!$C$6 -> 1 | C10: ='Count Summary'!$C$7 -> Broadway / Lee St / Quay St / George St / Pitt St | D10: ='Count Summary'!$C$8 -> 40267 | E10: 0.25 | F10: AM | G10: ='Count Summary'!$D$19 -> 6:00 - 6:15 | H10: ='Count Summary'!B26 -> 1_07 | I10: ='Count Summary'!C26 -> Pitt St SRT | J10: ='Count Summary'!D26 -> 0
A11: 8 | B11: ='Count Summary'!$C$6 -> 1 | C11: ='Count Summary'!$C$7 -> Broadway / Lee St / Quay St / George St / Pitt St | D11: ='Count Summary'!$C$8 -> 40267 | E11: 0.25 | F11: AM | G11: ='Count Summary'!$D$19 -> 6:00 - 6:15 | H11: ='Count Summary'!B27 -> 1_08 | I11: ='Count Summary'!C27 -> Pitt St RT | J11: ='Count Summary'!D27 -> 0
A12: 9 | B12: ='Count Summary'!$C$6 -> 1 | C12: ='Count Summary'!$C$7 -> Broadway / Lee St / Quay St / George St / Pitt St | D12: ='Count Summary'!$C$8 -> 40267 | E12: 0.25 | F12: AM | G12: ='Count Summary'!$D$19 -> 6:00 - 6:15 | H12: ='Count Summary'!B28 -> 1_09 | I12: ='Count Summary'!C28 -> George St LT | J12: ='Count Summary'!D28 -> 0
A13: 10 | B13: ='Count Summary'!$C$6 -> 1 | C13: ='Count Summary'!$C$7 -> Broadway / Lee St / Quay St / George St / Pitt St | D13: ='Count Summary'!$C$8 -> 40267 | E13: 0.25 | F13: AM | G13: ='Count Summary'!$D$19 -> 6:00 - 6:15 | H13: ='Count Summary'!B29 -> 1_10 | I13: ='Count Summary'!C29 -> George St SLT | J13: ='Count Summary'!D29 -> 0
A14: 11 | B14: ='Count Summary'!$C$6 -> 1 | C14: ='Count Summary'!$C$7 -> Broadway / Lee St / Quay St / George St / Pitt St | D14: ='Count Summary'!$C$8 -> 40267 | E14: 0.25 | F14: AM | G14: ='Count Summary'!$D$19 -> 6:00 - 6:15 | H14: ='Count Summary'!B30 -> 1_11 | I14: ='Count Summary'!C30 -> George St SRT | J14: ='Count Summary'!D30 -> 0
A15: 12 | B15: ='Count Summary'!$C$6 -> 1 | C15: ='Count Summary'!$C$7 -> Broadway / Lee St / Quay St / George St / Pitt St | D15: ='Count Summary'!$C$8 -> 40267 | E15: 0.25 | F15: AM | G15: ='Count Summary'!$D$19 -> 6:00 - 6:15 | H15: ='Count Summary'!B31 -> 1_12 | I15: ='Count Summary'!C31 -> George St RT | J15: ='Count Summary'!D31 -> 0
... A28: 25 | B28: ='Count Summary'!$C$6 -> 1 | C28: ='Count Summary'!$C$7 -> Broadway / Lee St / Quay St / George St / Pitt St | D28: ='Count Summary'!$C$8 -> 40267 | E28: 0.25 | F28: AM | G28: ='Count Summary'!$D$19 -> 6:00 - 6:15 | H28: ='Count Summary'!B44 -> 1_25 | I28: ='Count Summary'!C44 -> Broadway St Crossing | J28: ='Count Summary'!D44 -> 0
A29: 26 | B29: ='Count Summary'!$C$6 -> 1 | C29: ='Count Summary'!$C$7 -> Broadway / Lee St / Quay St / George St / Pitt St | D29: ='Count Summary'!$C$8 -> 40267 | E29: 0.26041667 | F29: AM | G29: ='Count Summary'!$E$19 -> 6:15 - 6:30 | H29: ='Count Summary'!B20 -> 1_01 | I29: ='Count Summary'!C20 -> Lee St LT | J29: ='Count Summary'!E20 -> 0
A30: 27 | B30: ='Count Summary'!$C$6 -> 1 | C30: ='Count Summary'!$C$7 -> Broadway / Lee St / Quay St / George St / Pitt St | D30: ='Count Summary'!$C$8 -> 40267 | E30: 0.26041667 | F30: AM | G30: ='Count Summary'!$E$19 -> 6:15 - 6:30 | H30: ='Count Summary'!B21 -> 1_02 | I30: ='Count Summary'!C21 -> Lee St SLT | J30: ='Count Summary'!E21 -> 0
A31: 28 | B31: ='Count Summary'!$C$6 -> 1 | C31: ='Count Summary'!$C$7 -> Broadway / Lee St / Quay St / George St / Pitt St | D31: ='Count Summary'!$C$8 -> 40267 | E31: 0.26041667 | F31: AM | G31: ='Count Summary'!$E$19 -> 6:15 - 6:30 | H31: ='Count Summary'!B22 -> 1_03 | I31: ='Count Summary'!C22 -> Lee St SRT | J31: ='Count Summary'!E22 -> 1
A32: 29 | B32: ='Count Summary'!$C$6 -> 1 | C32: ='Count Summary'!$C$7 -> Broadway / Lee St / Quay St / George St / Pitt St | D32: ='Count Summary'!$C$8 -> 40267 | E32: 0.26041667 | F32: AM | G32: ='Count Summary'!$E$19 -> 6:15 - 6:30 | H32: ='Count Summary'!B23 -> 1_04 | I32: ='Count Summary'!C23 -> Lee St RT | J32: ='Count Summary'!E23 -> 0
A33: 30 | B33: ='Count Summary'!$C$6 -> 1 | C33: ='Count Summary'!$C$7 -> Broadway / Lee St / Quay St / George St / Pitt St | D33: ='Count Summary'!$C$8 -> 40267 | E33: 0.26041667 | F33: AM | G33: ='Count Summary'!$E$19 -> 6:15 - 6:30 | H33: ='Count Summary'!B24 -> 1_05 | I33: ='Count Summary'!C24 -> Pitt St LT | J33: ='Count Summary'!E24 -> 0
A34: 31 | B34: ='Count Summary'!$C$6 -> 1 | C34: ='Count Summary'!$C$7 -> Broadway / Lee St / Quay St / George St / Pitt St | D34: ='Count Summary'!$C$8 -> 40267 | E34: 0.26041667 | F34: AM | G34: ='Count Summary'!$E$19 -> 6:15 - 6:30 | H34: ='Count Summary'!B25 -> 1_06 | I34: ='Count Summary'!C25 -> Pitt St SLT | J34: ='Count Summary'!E25 -> 0
A35: 32 | B35: ='Count Summary'!$C$6 -> 1 | C35: ='Count Summary'!$C$7 -> Broadway / Lee St / Quay St / George St / Pitt St | D35: ='Count Summary'!$C$8 -> 40267 | E35: 0.26041667 | F35: AM | G35: ='Count Summary'!$E$19 -> 6:15 - 6:30 | H35: ='Count Summary'!B26 -> 1_07 | I35: ='Count Summary'!C26 -> Pitt St SRT | J35: ='Count Summary'!E26 -> 0
A36: 33 | B36: ='Count Summary'!$C$6 -> 1 | C36: ='Count Summary'!$C$7 -> Broadway / Lee St / Quay St / George St / Pitt St | D36: ='Count Summary'!$C$8 -> 40267 | E36: 0.26041667 | F36: AM | G36: ='Count Summary'!$E$19 -> 6:15 - 6:30 | H36: ='Count Summary'!B27 -> 1_08 | I36: ='Count Summary'!C27 -> Pitt St RT | J36: ='Count Summary'!E27 -> 0
A37: 34 | B37: ='Count Summary'!$C$6 -> 1 | C37: ='Count Summary'!$C$7 -> Broadway / Lee St / Quay St / George St / Pitt St | D37: ='Count Summary'!$C$8 -> 40267 | E37: 0.26041667 | F37: AM | G37: ='Count Summary'!$E$19 -> 6:15 - 6:30 | H37: ='Count Summary'!B28 -> 1_09 | I37: ='Count Summary'!C28 -> George St LT | J37: ='Count Summary'!E28 -> 0
A38: 35 | B38: ='Count Summary'!$C$6 -> 1 | C38: ='Count Summary'!$C$7 -> Broadway / Lee St / Quay St / George St / Pitt St | D38: ='Count Summary'!$C$8 -> 40267 | E38: 0.26041667 | F38: AM | G38: ='Count Summary'!$E$19 -> 6:15 - 6:30 | H38: ='Count Summary'!B29 -> 1_10 | I38: ='Count Summary'!C29 -> George St SLT | J38: ='Count Summary'!E29 -> 1
A39: 36 | B39: ='Count Summary'!$C$6 -> 1 | C39: ='Count Summary'!$C$7 -> Broadway / Lee St / Quay St / George St / Pitt St | D39: ='Count Summary'!$C$8 -> 40267 | E39: 0.26041667 | F39: AM | G39: ='Count Summary'!$E$19 -> 6:15 - 6:30 | H39: ='Count Summary'!B30 -> 1_11 | I39: ='Count Summary'!C30 -> George St SRT | J39: ='Count Summary'!E30 -> 0
A40: 37 | B40: ='Count Summary'!$C$6 -> 1 | C40: ='Count Summary'!$C$7 -> Broadway / Lee St / Quay St / George St / Pitt St | D40: ='Count Summary'!$C$8 -> 40267 | E40: 0.26041667 | F40: AM | G40: ='Count Summary'!$E$19 -> 6:15 - 6:30 | H40: ='Count Summary'!B31 -> 1_12 | I40: ='Count Summary'!C31 -> George St RT | J40: ='Count Summary'!E31 -> 0
... A53: 50 | B53: ='Count Summary'!$C$6 -> 1 | C53: ='Count Summary'!$C$7 -> Broadway / Lee St / Quay St / George St / Pitt St | D53: ='Count Summary'!$C$8 -> 40267 | E53: 0.26041667 | F53: AM | G53: ='Count Summary'!$E$19 -> 6:15 - 6:30 | H53: ='Count Summary'!B44 -> 1_25 | I53: ='Count Summary'!C44 -> Broadway St Crossing | J53: ='Count Summary'!E44 -> 0
A54: 51 | B54: ='Count Summary'!$C$6 -> 1 | C54: ='Count Summary'!$C$7 -> Broadway / Lee St / Quay St / George St / Pitt St | D54: ='Count Summary'!$C$8 -> 40267 | E54: 0.27083333 | F54: AM | G54: ='Count Summary'!$F$19 -> 6:30 - 6:45 | H54: ='Count Summary'!B20 -> 1_01 | I54: ='Count Summary'!C20 -> Lee St LT | J54: ='Count Summary'!F20 -> 0
A55: 52 | B55: ='Count Summary'!$C$6 -> 1 | C55: ='Count Summary'!$C$7 -> Broadway / Lee St / Quay St / George St / Pitt St | D55: ='Count Summary'!$C$8 -> 40267 | E55: 0.27083333 | F55: AM | G55: ='Count Summary'!$F$19 -> 6:30 - 6:45 | H55: ='Count Summary'!B21 -> 1_02 | I55: ='Count Summary'!C21 -> Lee St SLT | J55: ='Count Summary'!F21 -> 0
A56: 53 | B56: ='Count Summary'!$C$6 -> 1 | C56: ='Count Summary'!$C$7 -> Broadway / Lee St / Quay St / George St / Pitt St | D56: ='Count Summary'!$C$8 -> 40267 | E56: 0.27083333 | F56: AM | G56: ='Count Summary'!$F$19 -> 6:30 - 6:45 | H56: ='Count Summary'!B22 -> 1_03 | I56: ='Count Summary'!C22 -> Lee St SRT | J56: ='Count Summary'!F22 -> 0
A57: 54 | B57: ='Count Summary'!$C$6 -> 1 | C57: ='Count Summary'!$C$7 -> Broadway / Lee St / Quay St / George St / Pitt St | D57: ='Count Summary'!$C$8 -> 40267 | E57: 0.27083333 | F57: AM | G57: ='Count Summary'!$F$19 -> 6:30 - 6:45 | H57: ='Count Summary'!B23 -> 1_04 | I57: ='Count Summary'!C23 -> Lee St RT | J57: ='Count Summary'!F23 -> 3
A58: 55 | B58: ='Count Summary'!$C$6 -> 1 | C58: ='Count Summary'!$C$7 -> Broadway / Lee St / Quay St / George St / Pitt St | D58: ='Count Summary'!$C$8 -> 40267 | E58: 0.27083333 | F58: AM | G58: ='Count Summary'!$F$19 -> 6:30 - 6:45 | H58: ='Count Summary'!B24 -> 1_05 | I58: ='Count Summary'!C24 -> Pitt St LT | J58: ='Count Summary'!F24 -> 0
A59: 56 | B59: ='Count Summary'!$C$6 -> 1 | C59: ='Count Summary'!$C$7 -> Broadway / Lee St / Quay St / George St / Pitt St | D59: ='Count Summary'!$C$8 -> 40267 | E59: 0.27083333 | F59: AM | G59: ='Count Summary'!$F$19 -> 6:30 - 6:45 | H59: ='Count Summary'!B25 -> 1_06 | I59: ='Count Summary'!C25 -> Pitt St SLT | J59: ='Count Summary'!F25 -> 0
A60: 57 | B60: ='Count Summary'!$C$6 -> 1 | C60: ='Count Summary'!$C$7 -> Broadway / Lee St / Quay St / George St / Pitt St | D60: ='Count Summary'!$C$8 -> 40267 | E60: 0.27083333 | F60: AM | G60: ='Count Summary'!$F$19 -> 6:30 - 6:45 | H60: ='Count Summary'!B26 -> 1_07 | I60: ='Count Summary'!C26 -> Pitt St SRT | J60: ='Count Summary'!F26 -> 0
A61: 58 | B61: ='Count Summary'!$C$6 -> 1 | C61: ='Count Summary'!$C$7 -> Broadway / Lee St / Quay St / George St / Pitt St | D61: ='Count Summary'!$C$8 -> 40267 | E61: 0.27083333 | F61: AM | G61: ='Count Summary'!$F$19 -> 6:30 - 6:45 | H61: ='Count Summary'!B27 -> 1_08 | I61: ='Count Summary'!C27 -> Pitt St RT | J61: ='Count Summary'!F27 -> 0
A62: 59 | B62: ='Count Summary'!$C$6 -> 1 | C62: ='Count Summary'!$C$7 -> Broadway / Lee St / Quay St / George St / Pitt St | D62: ='Count Summary'!$C$8 -> 40267 | E62: 0.27083333 | F62: AM | G62: ='Count Summary'!$F$19 -> 6:30 - 6:45 | H62: ='Count Summary'!B28 -> 1_09 | I62: ='Count Summary'!C28 -> George St LT | J62: ='Count Summary'!F28 -> 0
A63: 60 | B63: ='Count Summary'!$C$6 -> 1 | C63: ='Count Summary'!$C$7 -> Broadway / Lee St / Quay St / George St / Pitt St | D63: ='Count Summary'!$C$8 -> 40267 | E63: 0.27083333 | F63: AM | G63: ='Count Summary'!$F$19 -> 6:30 - 6:45 | H63: ='Count Summary'!B29 -> 1_10 | I63: ='Count Summary'!C29 -> George St SLT | J63: ='Count Summary'!F29 -> 0
A64: 61 | B64: ='Count Summary'!$C$6 -> 1 | C64: ='Count Summary'!$C$7 -> Broadway / Lee St / Quay St / George St / Pitt St | D64: ='Count Summary'!$C$8 -> 40267 | E64: 0.27083333 | F64: AM | G64: ='Count Summary'!$F$19 -> 6:30 - 6:45 | H64: ='Count Summary'!B30 -> 1_11 | I64: ='Count Summary'!C30 -> George St SRT | J64: ='Count Summary'!F30 -> 0
A65: 62 | B65: ='Count Summary'!$C$6 -> 1 | C65: ='Count Summary'!$C$7 -> Broadway / Lee St / Quay St / George St / Pitt St | D65: ='Count Summary'!$C$8 -> 40267 | E65: 0.27083333 | F65: AM | G65: ='Count Summary'!$F$19 -> 6:30 - 6:45 | H65: ='Count Summary'!B31 -> 1_12 | I65: ='Count Summary'!C31 -> George St RT | J65: ='Count Summary'!F31 -> 0
...

Sheet PM Data
A1: =TEXT("CITY OF SYDNEY TWICE - YEARLY BICYCLE COUNT - SITE ","") & B4 & TEXT(" DATA (PM)","") -> CITY OF SYDNEY TWICE - YEARLY BICYCLE COUNT - SITE 1 DATA (PM)
A3: ID | B3: Intersection ID | C3: Description | D3: Count Date | E3: Count Time | F3: Session | G3: Time Bracket | H3: Turn ID | I3: Turn Description | J3: Bicycles
A4: 1 | B4: ='Count Summary'!$C$6 -> 1 | C4: ='Count Summary'!$C$7 -> Broadway / Lee St / Quay St / George St / Pitt St | D4: ='Count Summary'!$C$8 -> 40267 | E4: 0.66666667 | F4: PM | G4: ='Count Summary'!$Q$19 -> 16:00 - 16:15 | H4: ='Count Summary'!B20 -> 1_01 | I4: ='Count Summary'!C20 -> Lee St LT | J4: ='Count Summary'!Q20 -> 0
A5: 2 | B5: ='Count Summary'!$C$6 -> 1 | C5: ='Count Summary'!$C$7 -> Broadway / Lee St / Quay St / George St / Pitt St | D5: ='Count Summary'!$C$8 -> 40267 | E5: 0.66666667 | F5: PM | G5: ='Count Summary'!$Q$19 -> 16:00 - 16:15 | H5: ='Count Summary'!B21 -> 1_02 | I5: ='Count Summary'!C21 -> Lee St SLT | J5: ='Count Summary'!Q21 -> 0
A6: 3 | B6: ='Count Summary'!$C$6 -> 1 | C6: ='Count Summary'!$C$7 -> Broadway / Lee St / Quay St / George St / Pitt St | D6: ='Count Summary'!$C$8 -> 40267 | E6: 0.66666667 | F6: PM | G6: ='Count Summary'!$Q$19 -> 16:00 - 16:15 | H6: ='Count Summary'!B22 -> 1_03 | I6: ='Count Summary'!C22 -> Lee St SRT | J6: ='Count Summary'!Q22 -> 1
A7: 4 | B7: ='Count Summary'!$C$6 -> 1 | C7: ='Count Summary'!$C$7 -> Broadway / Lee St / Quay St / George St / Pitt St | D7: ='Count Summary'!$C$8 -> 40267 | E7: 0.66666667 | F7: PM | G7: ='Count Summary'!$Q$19 -> 16:00 - 16:15 | H7: ='Count Summary'!B23 -> 1_04 | I7: ='Count Summary'!C23 -> Lee St RT | J7: ='Count Summary'!Q23 -> 2
A8: 5 | B8: ='Count Summary'!$C$6 -> 1 | C8: ='Count Summary'!$C$7 -> Broadway / Lee St / Quay St / George St / Pitt St | D8: ='Count Summary'!$C$8 -> 40267 | E8: 0.66666667 | F8: PM | G8: ='Count Summary'!$Q$19 -> 16:00 - 16:15 | H8: ='Count Summary'!B24 -> 1_05 | I8: ='Count Summary'!C24 -> Pitt St LT | J8: ='Count Summary'!Q24 -> 2
A9: 6 | B9: ='Count Summary'!$C$6 -> 1 | C9: ='Count Summary'!$C$7 -> Broadway / Lee St / Quay St / George St / Pitt St | D9: ='Count Summary'!$C$8 -> 40267 | E9: 0.66666667 | F9: PM | G9: ='Count Summary'!$Q$19 -> 16:00 - 16:15 | H9: ='Count Summary'!B25 -> 1_06 | I9: ='Count Summary'!C25 -> Pitt St SLT | J9: ='Count Summary'!Q25 -> 1
A10: 7 | B10: ='Count Summary'!$C$6 -> 1 | C10: ='Count Summary'!$C$7 -> Broadway / Lee St / Quay St / George St / Pitt St | D10: ='Count Summary'!$C$8 -> 40267 | E10: 0.66666667 | F10: PM | G10: ='Count Summary'!$Q$19 -> 16:00 - 16:15 | H10: ='Count Summary'!B26 -> 1_07 | I10: ='Count Summary'!C26 -> Pitt St SRT | J10: ='Count Summary'!Q26 -> 0
A11: 8 | B11: ='Count Summary'!$C$6 -> 1 | C11: ='Count Summary'!$C$7 -> Broadway / Lee St / Quay St / George St / Pitt St | D11: ='Count Summary'!$C$8 -> 40267 | E11: 0.66666667 | F11: PM | G11: ='Count Summary'!$Q$19 -> 16:00 - 16:15 | H11: ='Count Summary'!B27 -> 1_08 | I11: ='Count Summary'!C27 -> Pitt St RT | J11: ='Count Summary'!Q27 -> 0
A12: 9 | B12: ='Count Summary'!$C$6 -> 1 | C12: ='Count Summary'!$C$7 -> Broadway / Lee St / Quay St / George St / Pitt St | D12: ='Count Summary'!$C$8 -> 40267 | E12: 0.66666667 | F12: PM | G12: ='Count Summary'!$Q$19 -> 16:00 - 16:15 | H12: ='Count Summary'!B28 -> 1_09 | I12: ='Count Summary'!C28 -> George St LT | J12: ='Count Summary'!Q28 -> 0
A13: 10 | B13: ='Count Summary'!$C$6 -> 1 | C13: ='Count Summary'!$C$7 -> Broadway / Lee St / Quay St / George St / Pitt St | D13: ='Count Summary'!$C$8 -> 40267 | E13: 0.66666667 | F13: PM | G13: ='Count Summary'!$Q$19 -> 16:00 - 16:15 | H13: ='Count Summary'!B29 -> 1_10 | I13: ='Count Summary'!C29 -> George St SLT | J13: ='Count Summary'!Q29 -> 3
A14: 11 | B14: ='Count Summary'!$C$6 -> 1 | C14: ='Count Summary'!$C$7 -> Broadway / Lee St / Quay St / George St / Pitt St | D14: ='Count Summary'!$C$8 -> 40267 | E14: 0.66666667 | F14: PM | G14: ='Count Summary'!$Q$19 -> 16:00 - 16:15 | H14: ='Count Summary'!B30 -> 1_11 | I14: ='Count Summary'!C30 -> George St SRT | J14: ='Count Summary'!Q30 -> 1
A15: 12 | B15: ='Count Summary'!$C$6 -> 1 | C15: ='Count Summary'!$C$7 -> Broadway / Lee St / Quay St / George St / Pitt St | D15: ='Count Summary'!$C$8 -> 40267 | E15: 0.66666667 | F15: PM | G15: ='Count Summary'!$Q$19 -> 16:00 - 16:15 | H15: ='Count Summary'!B31 -> 1_12 | I15: ='Count Summary'!C31 -> George St RT | J15: ='Count Summary'!Q31 -> 0
... A28: 25 | B28: ='Count Summary'!$C$6 -> 1 | C28: ='Count Summary'!$C$7 -> Broadway / Lee St / Quay St / George St / Pitt St | D28: ='Count Summary'!$C$8 -> 40267 | E28: 0.66666667 | F28: PM | G28: ='Count Summary'!$Q$19 -> 16:00 - 16:15 | H28: ='Count Summary'!B44 -> 1_25 | I28: ='Count Summary'!C44 -> Broadway St Crossing | J28: ='Count Summary'!Q44 -> 0
A29: 26 | B29: ='Count Summary'!$C$6 -> 1 | C29: ='Count Summary'!$C$7 -> Broadway / Lee St / Quay St / George St / Pitt St | D29: ='Count Summary'!$C$8 -> 40267 | E29: 0.67708333 | F29: PM | G29: ='Count Summary'!$R$19 -> 16:15 - 16:30 | H29: ='Count Summary'!B20 -> 1_01 | I29: ='Count Summary'!C20 -> Lee St LT | J29: ='Count Summary'!R20 -> 0
A30: 27 | B30: ='Count Summary'!$C$6 -> 1 | C30: ='Count Summary'!$C$7 -> Broadway / Lee St / Quay St / George St / Pitt St | D30: ='Count Summary'!$C$8 -> 40267 | E30: 0.67708333 | F30: PM | G30: ='Count Summary'!$R$19 -> 16:15 - 16:30 | H30: ='Count Summary'!B21 -> 1_02 | I30: ='Count Summary'!C21 -> Lee St SLT | J30: ='Count Summary'!R21 -> 1
A31: 28 | B31: ='Count Summary'!$C$6 -> 1 | C31: ='Count Summary'!$C$7 -> Broadway / Lee St / Quay St / George St / Pitt St | D31: ='Count Summary'!$C$8 -> 40267 | E31: 0.67708333 | F31: PM | G31: ='Count Summary'!$R$19 -> 16:15 - 16:30 | H31: ='Count Summary'!B22 -> 1_03 | I31: ='Count Summary'!C22 -> Lee St SRT | J31: ='Count Summary'!R22 -> 0
A32: 29 | B32: ='Count Summary'!$C$6 -> 1 | C32: ='Count Summary'!$C$7 -> Broadway / Lee St / Quay St / George St / Pitt St | D32: ='Count Summary'!$C$8 -> 40267 | E32: 0.67708333 | F32: PM | G32: ='Count Summary'!$R$19 -> 16:15 - 16:30 | H32: ='Count Summary'!B23 -> 1_04 | I32: ='Count Summary'!C23 -> Lee St RT | J32: ='Count Summary'!R23 -> 0
A33: 30 | B33: ='Count Summary'!$C$6 -> 1 | C33: ='Count Summary'!$C$7 -> Broadway / Lee St / Quay St / George St / Pitt St | D33: ='Count Summary'!$C$8 -> 40267 | E33: 0.67708333 | F33: PM | G33: ='Count Summary'!$R$19 -> 16:15 - 16:30 | H33: ='Count Summary'!B24 -> 1_05 | I33: ='Count Summary'!C24 -> Pitt St LT | J33: ='Count Summary'!R24 -> 1
A34: 31 | B34: ='Count Summary'!$C$6 -> 1 | C34: ='Count Summary'!$C$7 -> Broadway / Lee St / Quay St / George St / Pitt St | D34: ='Count Summary'!$C$8 -> 40267 | E34: 0.67708333 | F34: PM | G34: ='Count Summary'!$R$19 -> 16:15 - 16:30 | H34: ='Count Summary'!B25 -> 1_06 | I34: ='Count Summary'!C25 -> Pitt St SLT | J34: ='Count Summary'!R25 -> 1
A35: 32 | B35: ='Count Summary'!$C$6 -> 1 | C35: ='Count Summary'!$C$7 -> Broadway / Lee St / Quay St / George St / Pitt St | D35: ='Count Summary'!$C$8 -> 40267 | E35: 0.67708333 | F35: PM | G35: ='Count Summary'!$R$19 -> 16:15 - 16:30 | H35: ='Count Summary'!B26 -> 1_07 | I35: ='Count Summary'!C26 -> Pitt St SRT | J35: ='Count Summary'!R26 -> 0
A36: 33 | B36: ='Count Summary'!$C$6 -> 1 | C36: ='Count Summary'!$C$7 -> Broadway / Lee St / Quay St / George St / Pitt St | D36: ='Count Summary'!$C$8 -> 40267 | E36: 0.67708333 | F36: PM | G36: ='Count Summary'!$R$19 -> 16:15 - 16:30 | H36: ='Count Summary'!B27 -> 1_08 | I36: ='Count Summary'!C27 -> Pitt St RT | J36: ='Count Summary'!R27 -> 0
A37: 34 | B37: ='Count Summary'!$C$6 -> 1 | C37: ='Count Summary'!$C$7 -> Broadway / Lee St / Quay St / George St / Pitt St | D37: ='Count Summary'!$C$8 -> 40267 | E37: 0.67708333 | F37: PM | G37: ='Count Summary'!$R$19 -> 16:15 - 16:30 | H37: ='Count Summary'!B28 -> 1_09 | I37: ='Count Summary'!C28 -> George St LT | J37: ='Count Summary'!R28 -> 0
A38: 35 | B38: ='Count Summary'!$C$6 -> 1 | C38: ='Count Summary'!$C$7 -> Broadway / Lee St / Quay St / George St / Pitt St | D38: ='Count Summary'!$C$8 -> 40267 | E38: 0.67708333 | F38: PM | G38: ='Count Summary'!$R$19 -> 16:15 - 16:30 | H38: ='Count Summary'!B29 -> 1_10 | I38: ='Count Summary'!C29 -> George St SLT | J38: ='Count Summary'!R29 -> 1
A39: 36 | B39: ='Count Summary'!$C$6 -> 1 | C39: ='Count Summary'!$C$7 -> Broadway / Lee St / Quay St / George St / Pitt St | D39: ='Count Summary'!$C$8 -> 40267 | E39: 0.67708333 | F39: PM | G39: ='Count Summary'!$R$19 -> 16:15 - 16:30 | H39: ='Count Summary'!B30 -> 1_11 | I39: ='Count Summary'!C30 -> George St SRT | J39: ='Count Summary'!R30 -> 1
A40: 37 | B40: ='Count Summary'!$C$6 -> 1 | C40: ='Count Summary'!$C$7 -> Broadway / Lee St / Quay St / George St / Pitt St | D40: ='Count Summary'!$C$8 -> 40267 | E40: 0.67708333 | F40: PM | G40: ='Count Summary'!$R$19 -> 16:15 - 16:30 | H40: ='Count Summary'!B31 -> 1_12 | I40: ='Count Summary'!C31 -> George St RT | J40: ='Count Summary'!R31 -> 0
... A53: 50 | B53: ='Count Summary'!$C$6 -> 1 | C53: ='Count Summary'!$C$7 -> Broadway / Lee St / Quay St / George St / Pitt St | D53: ='Count Summary'!$C$8 -> 40267 | E53: 0.67708333 | F53: PM | G53: ='Count Summary'!$R$19 -> 16:15 - 16:30 | H53: ='Count Summary'!B44 -> 1_25 | I53: ='Count Summary'!C44 -> Broadway St Crossing | J53: ='Count Summary'!R44 -> 0
A54: 51 | B54: ='Count Summary'!$C$6 -> 1 | C54: ='Count Summary'!$C$7 -> Broadway / Lee St / Quay St / George St / Pitt St | D54: ='Count Summary'!$C$8 -> 40267 | E54: 0.6875 | F54: PM | G54: ='Count Summary'!$S$19 -> 16:30 - 16:45 | H54: ='Count Summary'!B20 -> 1_01 | I54: ='Count Summary'!C20 -> Lee St LT | J54: ='Count Summary'!S20 -> 0
A55: 52 | B55: ='Count Summary'!$C$6 -> 1 | C55: ='Count Summary'!$C$7 -> Broadway / Lee St / Quay St / George St / Pitt St | D55: ='Count Summary'!$C$8 -> 40267 | E55: 0.6875 | F55: PM | G55: ='Count Summary'!$S$19 -> 16:30 - 16:45 | H55: ='Count Summary'!B21 -> 1_02 | I55: ='Count Summary'!C21 -> Lee St SLT | J55: ='Count Summary'!S21 -> 1
A56: 53 | B56: ='Count Summary'!$C$6 -> 1 | C56: ='Count Summary'!$C$7 -> Broadway / Lee St / Quay St / George St / Pitt St | D56: ='Count Summary'!$C$8 -> 40267 | E56: 0.6875 | F56: PM | G56: ='Count Summary'!$S$19 -> 16:30 - 16:45 | H56: ='Count Summary'!B22 -> 1_03 | I56: ='Count Summary'!C22 -> Lee St SRT | J56: ='Count Summary'!S22 -> 0
A57: 54 | B57: ='Count Summary'!$C$6 -> 1 | C57: ='Count Summary'!$C$7 -> Broadway / Lee St / Quay St / George St / Pitt St | D57: ='Count Summary'!$C$8 -> 40267 | E57: 0.6875 | F57: PM | G57: ='Count Summary'!$S$19 -> 16:30 - 16:45 | H57: ='Count Summary'!B23 -> 1_04 | I57: ='Count Summary'!C23 -> Lee St RT | J57: ='Count Summary'!S23 -> 1
A58: 55 | B58: ='Count Summary'!$C$6 -> 1 | C58: ='Count Summary'!$C$7 -> Broadway / Lee St / Quay St / George St / Pitt St | D58: ='Count Summary'!$C$8 -> 40267 | E58: 0.6875 | F58: PM | G58: ='Count Summary'!$S$19 -> 16:30 - 16:45 | H58: ='Count Summary'!B24 -> 1_05 | I58: ='Count Summary'!C24 -> Pitt St LT | J58: ='Count Summary'!S24 -> 0
A59: 56 | B59: ='Count Summary'!$C$6 -> 1 | C59: ='Count Summary'!$C$7 -> Broadway / Lee St / Quay St / George St / Pitt St | D59: ='Count Summary'!$C$8 -> 40267 | E59: 0.6875 | F59: PM | G59: ='Count Summary'!$S$19 -> 16:30 - 16:45 | H59: ='Count Summary'!B25 -> 1_06 | I59: ='Count Summary'!C25 -> Pitt St SLT | J59: ='Count Summary'!S25 -> 1
A60: 57 | B60: ='Count Summary'!$C$6 -> 1 | C60: ='Count Summary'!$C$7 -> Broadway / Lee St / Quay St / George St / Pitt St | D60: ='Count Summary'!$C$8 -> 40267 | E60: 0.6875 | F60: PM | G60: ='Count Summary'!$S$19 -> 16:30 - 16:45 | H60: ='Count Summary'!B26 -> 1_07 | I60: ='Count Summary'!C26 -> Pitt St SRT | J60: ='Count Summary'!S26 -> 0
A61: 58 | B61: ='Count Summary'!$C$6 -> 1 | C61: ='Count Summary'!$C$7 -> Broadway / Lee St / Quay St / George St / Pitt St | D61: ='Count Summary'!$C$8 -> 40267 | E61: 0.6875 | F61: PM | G61: ='Count Summary'!$S$19 -> 16:30 - 16:45 | H61: ='Count Summary'!B27 -> 1_08 | I61: ='Count Summary'!C27 -> Pitt St RT | J61: ='Count Summary'!S27 -> 0
A62: 59 | B62: ='Count Summary'!$C$6 -> 1 | C62: ='Count Summary'!$C$7 -> Broadway / Lee St / Quay St / George St / Pitt St | D62: ='Count Summary'!$C$8 -> 40267 | E62: 0.6875 | F62: PM | G62: ='Count Summary'!$S$19 -> 16:30 - 16:45 | H62: ='Count Summary'!B28 -> 1_09 | I62: ='Count Summary'!C28 -> George St LT | J62: ='Count Summary'!S28 -> 0
A63: 60 | B63: ='Count Summary'!$C$6 -> 1 | C63: ='Count Summary'!$C$7 -> Broadway / Lee St / Quay St / George St / Pitt St | D63: ='Count Summary'!$C$8 -> 40267 | E63: 0.6875 | F63: PM | G63: ='Count Summary'!$S$19 -> 16:30 - 16:45 | H63: ='Count Summary'!B29 -> 1_10 | I63: ='Count Summary'!C29 -> George St SLT | J63: ='Count Summary'!S29 -> 1
A64: 61 | B64: ='Count Summary'!$C$6 -> 1 | C64: ='Count Summary'!$C$7 -> Broadway / Lee St / Quay St / George St / Pitt St | D64: ='Count Summary'!$C$8 -> 40267 | E64: 0.6875 | F64: PM | G64: ='Count Summary'!$S$19 -> 16:30 - 16:45 | H64: ='Count Summary'!B30 -> 1_11 | I64: ='Count Summary'!C30 -> George St SRT | J64: ='Count Summary'!S30 -> 0
A65: 62 | B65: ='Count Summary'!$C$6 -> 1 | C65: ='Count Summary'!$C$7 -> Broadway / Lee St / Quay St / George St / Pitt St | D65: ='Count Summary'!$C$8 -> 40267 | E65: 0.6875 | F65: PM | G65: ='Count Summary'!$S$19 -> 16:30 - 16:45 | H65: ='Count Summary'!B31 -> 1_12 | I65: ='Count Summary'!C31 -> George St RT | J65: ='Count Summary'!S31 -> 0
...
